BEGIN:VCALENDAR
VERSION:2.0
PRODID:www.techmahindra.com
BEGIN:VEVENT
UID:69ea3c741f48e
DTSTART;VALUE=DATE:20191107
SEQUENCE:0
TRANSP:OPAQUE
DTEND;VALUE=DATE:20191108
LOCATION:The Bentley Hotel London| 27-33 Harrington Gardens\, Kensington\, 
 London SW7 4JX
SUMMARY:MFG.NXT: Leveraging AI-Augmented Analytics for Smart &amp\; Connect
 ed Manufacturing
CLASS:PUBLIC
DESCRIPTION:<p>While Digital Technologies such as AI\, machine Learning &am
 p\; Blockchain enabling the Fourth Industrial Revolution (as they call it)
 \, these technologies are working in siloes &amp\; hence their potential i
 sn’t completed utilized. In terms of adoption\, IOT is the highest with 
 about 50-60-% adoption across manufacturing &amp\; helps in use cases like
  condition based monitoring and generating data from vehicles for performi
 ng Vehicle diagnostics/driver behaviour\, Autonomous Vehicles etc. AI is u
 sed to generate insights &amp\; to act on them autonomously based on data 
 collated from IOT devices or from non-digital sources.</p><p>Big Data tech
 nology levers prove to be a key differentiator for various organizations a
 nd by leveraging Data Analytics as a business-decision driver\, organizati
 ons can reap the vast potential of data and stay ahead of competition. The
  actionable insights powered by the data &amp\; analytics technologies of 
 today can enable organizations to obtain a competitive edge around the are
 as of Vendor selection\, Procurement\, Risk assessment\, Supply Chain opti
 mization\, Predictive maintenance\, Fleet management\, Customer Segmentati
 on and Price and Revenue Optimization to name a few.</p><p>Tech Mahindra a
 nd IBM Cloud Data Analytics have partnered to develop business-value drive
 n solutions that offers a wide range of components to address a diverse se
 t of business problems and join to showcase them in the event.</p>
X-MICROSOFT-CDO-ALLDAYEVENT:TRUE
DTSTAMP:20260423T153620Z
END:VEVENT
END:VCALENDAR