BEGIN:VCALENDAR
VERSION:2.0
PRODID:www.techmahindra.com
BEGIN:VEVENT
UID:69e8a014f2604
DTSTART;VALUE=DATE:20240909
SEQUENCE:0
TRANSP:OPAQUE
DTEND;VALUE=DATE:20240913
LOCATION:Las Vegas | Booth - 125
SUMMARY:Tech Mahindra at Oracle CloudWorld 2024
CLASS:PUBLIC
X-MICROSOFT-CDO-ALLDAYEVENT:TRUE
DTSTAMP:20260422T101653Z
END:VEVENT
END:VCALENDAR