BEGIN:VCALENDAR
VERSION:2.0
PRODID:www.techmahindra.com
BEGIN:VEVENT
UID:69eba5aa627cc
DTSTART;VALUE=DATE:20240822
SEQUENCE:0
TRANSP:OPAQUE
DTEND;VALUE=DATE:20240823
LOCATION:Four Seasons\, Downtown Boston\, United States
SUMMARY:Analyst and Advisor Day 2024
CLASS:PUBLIC
X-MICROSOFT-CDO-ALLDAYEVENT:TRUE
DTSTAMP:20260424T171730Z
END:VEVENT
END:VCALENDAR