BEGIN:VCALENDAR
VERSION:2.0
PRODID:www.techmahindra.com
BEGIN:VEVENT
UID:69eae3776627d
DTSTART;VALUE=DATE:20250109
SEQUENCE:0
TRANSP:OPAQUE
DTEND;VALUE=DATE:20250111
LOCATION:Chennai Trade Centre\, Chennai
SUMMARY:Tech Mahindra is Proud to be a Session Partner at Umagine 2025
CLASS:PUBLIC
X-MICROSOFT-CDO-ALLDAYEVENT:TRUE
DTSTAMP:20260424T032855Z
END:VEVENT
END:VCALENDAR