BEGIN:VCALENDAR
VERSION:2.0
PRODID:www.techmahindra.com
BEGIN:VEVENT
UID:69eae421200e4
DTSTART;VALUE=DATE:20250123
SEQUENCE:0
TRANSP:OPAQUE
DTEND;VALUE=DATE:20250125
LOCATION:Taj Deccan Hyderabad
SUMMARY:TechM Radiance 2025
CLASS:PUBLIC
X-MICROSOFT-CDO-ALLDAYEVENT:TRUE
DTSTAMP:20260424T033145Z
END:VEVENT
END:VCALENDAR