BEGIN:VCALENDAR
VERSION:2.0
PRODID:www.techmahindra.com
BEGIN:VEVENT
UID:69e997fd98a6f
DTSTART;VALUE=DATE:20250331
SEQUENCE:0
TRANSP:OPAQUE
DTEND;VALUE=DATE:20250405
LOCATION:Hannover\, Germany
SUMMARY:Tech Mahindra at the Hannover Messe 2025
CLASS:PUBLIC
X-MICROSOFT-CDO-ALLDAYEVENT:TRUE
DTSTAMP:20260423T035437Z
END:VEVENT
END:VCALENDAR