BEGIN:VCALENDAR
VERSION:2.0
PRODID:www.techmahindra.com
BEGIN:VEVENT
UID:69e8a005c8d70
DTSTART;VALUE=DATE:20250623
SEQUENCE:0
TRANSP:OPAQUE
DTEND;VALUE=DATE:20250627
LOCATION:The Venetian Convention and Expo Center Las Vegas | Booth No. 2145
SUMMARY:Tech Mahindra is a Proud Silver Sponsor at HPE Discover 2025
CLASS:PUBLIC
X-MICROSOFT-CDO-ALLDAYEVENT:TRUE
DTSTAMP:20260422T101637Z
END:VEVENT
END:VCALENDAR