BEGIN:VCALENDAR
VERSION:2.0
PRODID:www.techmahindra.com
BEGIN:VEVENT
UID:69ecf342043e1
DTSTART;VALUE=DATE:20250721
SEQUENCE:0
TRANSP:OPAQUE
DTEND;VALUE=DATE:20250724
LOCATION:San Francisco\, California Booth No. 01
SUMMARY:Tech Mahindra at the 4th Annual TrustCon
CLASS:PUBLIC
X-MICROSOFT-CDO-ALLDAYEVENT:TRUE
DTSTAMP:20260425T170050Z
END:VEVENT
END:VCALENDAR