BEGIN:VCALENDAR
VERSION:2.0
PRODID:www.techmahindra.com
BEGIN:VEVENT
UID:69eb11606e339
DTSTART;VALUE=DATE:20251013
SEQUENCE:0
TRANSP:OPAQUE
DTEND;VALUE=DATE:20251017
LOCATION:The Venetian\, Las Vegas | Booth No: 8031
SUMMARY:Tech Mahindra at Oracle AI World 2025
CLASS:PUBLIC
X-MICROSOFT-CDO-ALLDAYEVENT:TRUE
DTSTAMP:20260424T064448Z
END:VEVENT
END:VCALENDAR