BEGIN:VCALENDAR
VERSION:2.0
PRODID:www.techmahindra.com
BEGIN:VEVENT
UID:69e7a0a940f42
DTSTART;VALUE=DATE:20251103
SEQUENCE:0
TRANSP:OPAQUE
DTEND;VALUE=DATE:20251106
LOCATION:Mandalay Bay Resort\, Las Vegas\, Nevada\, USA
SUMMARY:Join Tech Mahindra at UKG ASPIRE 2025 in Las Vegas
CLASS:PUBLIC
X-MICROSOFT-CDO-ALLDAYEVENT:TRUE
DTSTAMP:20260421T160705Z
END:VEVENT
END:VCALENDAR