BEGIN:VCALENDAR
VERSION:2.0
PRODID:www.techmahindra.com
BEGIN:VEVENT
UID:69e90d28560be
DTSTART;VALUE=DATE:20260511
SEQUENCE:0
TRANSP:OPAQUE
DTEND;VALUE=DATE:20260514
LOCATION:Orlando | Booth No - 301
SUMMARY:Tech Mahindra is the Diamond Sponsor at SAP Sapphire 2026\, Orlando
CLASS:PUBLIC
X-MICROSOFT-CDO-ALLDAYEVENT:TRUE
DTSTAMP:20260422T180216Z
END:VEVENT
END:VCALENDAR