BEGIN:VCALENDAR
VERSION:2.0
PRODID:www.techmahindra.com
BEGIN:VEVENT
UID:69e56943a9a6b
DTSTART;VALUE=DATE:20260427
SEQUENCE:0
TRANSP:OPAQUE
DTEND;VALUE=DATE:20260502
LOCATION:RAI Amsterdam\, The Netherlands | Booth No - 31
SUMMARY:Tech Mahindra Sponsors Geospatial World Forum (GWF)
CLASS:PUBLIC
X-MICROSOFT-CDO-ALLDAYEVENT:TRUE
DTSTAMP:20260419T234611Z
END:VEVENT
END:VCALENDAR