BEGIN:VCALENDAR
VERSION:2.0
PRODID:www.techmahindra.com
BEGIN:VEVENT
UID:69ea5a786ebf6
DTSTART;VALUE=DATE:20260505
SEQUENCE:0
TRANSP:OPAQUE
DTEND;VALUE=DATE:20260508
LOCATION:Bella Center Copenhagen\, Denmark | Booth G12
SUMMARY:Tech Mahindra is a Gold Sponsor at the Temenos Community Forum (TCF
 ) 2026
CLASS:PUBLIC
X-MICROSOFT-CDO-ALLDAYEVENT:TRUE
DTSTAMP:20260423T174424Z
END:VEVENT
END:VCALENDAR