BEGIN:VCALENDAR
VERSION:2.0
PRODID:www.techmahindra.com
BEGIN:VEVENT
UID:69eb9b9737a92
DTSTART;VALUE=DATE:20260623
SEQUENCE:0
TRANSP:OPAQUE
DTEND;VALUE=DATE:20260626
LOCATION:Bella Centre\, Copenhagen\, Denmark | Booth No: 205
SUMMARY:Tech Mahindra is a Platinum Sponsor at TM Forum DTW Ignite 2026
CLASS:PUBLIC
X-MICROSOFT-CDO-ALLDAYEVENT:TRUE
DTSTAMP:20260424T163431Z
END:VEVENT
END:VCALENDAR